BEGIN:VCALENDAR
VERSION:2.0
PRODID:-//ChamberMaster//Event Calendar 2.0//EN
METHOD:PUBLISH
X-PUBLISHED-TTL:P3D
REFRESH-INTERVAL:P3D
CALSCALE:GREGORIAN
BEGIN:VEVENT
DTSTART;VALUE=DATE:20231001
DTEND;VALUE=DATE:20231101
TRANSP:TRANSPARENT
X-MICROSOFT-CDO-ALLDAYEVENT:TRUE
SUMMARY:York County Libraries Break the Silence with Finding Our Voices During Domestic Abuse Awareness Month.
DESCRIPTION:Public libraries in Kittery\, York\, Kennebunk\, and Wells are partnering with Finding Our Voices to boldly break the silence during Domestic Abuse Awareness Month of October. \n\nThe Wells Public Library will be exhibiting the Finding Our Voices posters featuring the photo portraits of 45 Maine domestic abuse survivors aged 18 to 83 during the month of October. Accompanying posters will present details of the abuse they transcended that tie in personal experiences with the universal tactics that abusers use to get and maintain control of the intimate partners they claim to love.  \n\nFinding Our Voices is survivors of domestic abuse boldly breaking the silence of domestic abuse through bold public awareness as well as financial assistance and programs including dignified\, pro bono dental care for Maine's women and children survivors. Gathering and amplifying voices\, the grassroots nonprofit galvanizes action toward more safety\, rights\, services\, and justice for Maine women and children. The group was founded in 2021 by the photojournalist Patrisha McLean after worldwide headlines on the domestic violence arrest of her husband at the time Don "American Pie" McLean broke her own silence of 29 years. \n\nFor more information please\, visit FindingOurVoices.net
X-ALT-DESC;FMTTYPE=text/html:<span style="color:#242424">Public libraries in Kittery\, York\, Kennebunk\, and Wells are partnering with Finding Our Voices to boldly break the silence during Domestic Abuse Awareness Month of October.&nbsp\;</span><br />\n<span style="color:#242424">The Wells Public Library will be exhibiting the Finding Our Voices posters featuring the photo portraits of 45 Maine domestic abuse survivors aged 18 to 83 during the month of October. Accompanying posters will present details of the abuse they transcended that tie in personal experiences with the universal tactics that abusers use to get and maintain control of the intimate partners they claim to love. &nbsp\;</span><br />\n<u><span style="color:#242424">Finding Our Voices </span></u><em><span style="color:#242424">is survivors of domestic abuse boldly breaking the silence of domestic abuse through bold public awareness as well as financial assistance and programs including dignified\, pro bono dental care for Maine&rsquo\;s women and children survivors. Gathering and amplifying voices\, the grassroots nonprofit galvanizes action toward more safety\, rights\, services\, and justice for Maine women and children. </span></em><em><span style="color:#242424">The group was founded in 2021 by&nbsp\;the photojournalist Patrisha McLean after worldwide headlines on the&nbsp\;domestic&nbsp\;violence arrest of her husband at the time Don&nbsp\;&ldquo\;American Pie&rdquo\;&nbsp\;McLean&nbsp\;broke her own silence of 29 years.</span></em>&nbsp\;<br />\n<span style="color:#242424"><span style="font-family:calibri\,sans-serif"><span style="font-size:11.0pt">For more information please\, visit&nbsp\;</span></span></span><span style="color:black"><a href="https://linkprotect.cudasvc.com/url?a=http%3a%2f%2ffindingourvoices.net%2f&amp\;c=E\,1\,ML_OZ4xwXFcb9fLmlyVZ9lbvB64i9lzZbFqXbWWA1LTnXtKXjPXgVAWLqMoBLqquarYOnLO-k3-ihSZY156K_OvwFlNKvAkajwWFMr9fzuauK5dl&amp\;typo=1" target="_blank"><span style="font-family:calibri\,sans-serif"><span style="font-size:11.0pt">FindingOurVoices.net</span></span></a></span>&nbsp\;
LOCATION:Wells Public Library - Ethyl M. Weymouth Art Gallery 1434 Post Road Wells\, ME 04090
UID:e.3240.4048
SEQUENCE:3
DTSTAMP:20260423T121705Z
URL:https://www.wellschamber.org/events/details/york-county-libraries-break-the-silence-with-finding-our-voices-during-domestic-abuse-awareness-month-4048
END:VEVENT

END:VCALENDAR
