BEGIN:VCALENDAR
VERSION:2.0
PRODID:-//ChamberMaster//Event Calendar 2.0//EN
METHOD:PUBLISH
X-PUBLISHED-TTL:P3D
REFRESH-INTERVAL:P3D
CALSCALE:GREGORIAN
BEGIN:VEVENT
DTSTART:20230822T173000Z
DTEND:20230822T190000Z
X-MICROSOFT-CDO-ALLDAYEVENT:FALSE
SUMMARY:York Co. Career Center Drop-in Info Session
DESCRIPTION:If you're looking for information about entering or re-entering the workforce but aren't sure where to start\, then this info session is for you.  Presenters from the York County Career Center will be at the library with information about interviewing\, writing resumes\, opportunities for paid internships and apprenticeships\, and local job fair postings.  The Career Center is dedicated to help you find the tools you need to promote and target your qualifications to directly match an employer's needs.  For more information\, please contact Stefanie Claydon at sclaydon@wellstown.org or by calling the library at 207-646-8181.
X-ALT-DESC;FMTTYPE=text/html:<span style="color:#050505">If you&rsquo\;re looking for information about entering or re-entering the workforce but aren&rsquo\;t sure where to start\, then this info session is for you.&nbsp\; Presenters from the York County Career Center will be at the library with information about interviewing\, writing resumes\, opportunities for paid internships and apprenticeships\, and local job fair postings.&nbsp\; The Career Center is </span><span style="color:black">dedicated to help you find the tools you need to promote and target your qualifications to directly match an employer&#39\;s needs. </span><span style="color:#050505">&nbsp\;For more information\, please contact Stefanie Claydon at sclaydon@wellstown.org or by calling the library at 207-646-8181.</span>
LOCATION:Wells Public Library 1434 Post Road
UID:e.3240.3834
SEQUENCE:3
DTSTAMP:20260423T155145Z
URL:https://www.wellschamber.org/events/details/york-co-career-center-drop-in-info-session-3834
END:VEVENT

END:VCALENDAR
