BEGIN:VCALENDAR
VERSION:2.0
PRODID:-//ChamberMaster//Event Calendar 2.0//EN
METHOD:PUBLISH
X-PUBLISHED-TTL:P3D
REFRESH-INTERVAL:P3D
CALSCALE:GREGORIAN
BEGIN:VEVENT
DTSTART:20220716T120000Z
DTEND:20220716T170000Z
X-MICROSOFT-CDO-ALLDAYEVENT:FALSE
SUMMARY:Yard Sale Wells Ogunquit Senior Center
DESCRIPTION:Rain or Shine!\n\nWells Ogunquit Senior Center yard sale
X-ALT-DESC;FMTTYPE=text/html:Rain or Shine!<br />\nWells Ogunquit Senior Center yard sale<br />\n&nbsp\;
LOCATION:300 Post Road\, Wells
UID:e.3240.3265
SEQUENCE:3
DTSTAMP:20260424T151917Z
URL:https://www.wellschamber.org/events/details/yard-sale-wells-ogunquit-senior-center-3265
END:VEVENT

END:VCALENDAR
