BEGIN:VCALENDAR
VERSION:2.0
PRODID:-//ChamberMaster//Event Calendar 2.0//EN
METHOD:PUBLISH
X-PUBLISHED-TTL:P3D
REFRESH-INTERVAL:P3D
CALSCALE:GREGORIAN
BEGIN:VEVENT
DTSTART:20220716T113000Z
DTEND:20220716T143000Z
X-MICROSOFT-CDO-ALLDAYEVENT:FALSE
SUMMARY:Wildlife Track and Sign by the Sea
DESCRIPTION:Saturday\, July 16\, 7:30-10:30am\n\nWildlife Track and Sign by the Sea. The sands of Laudholm Beach reveal the stories of a diverse array of birds\, mammals\, and invertebrates. Join Certified Wildlife Tracker and Maine Guide Dan Gardoqui for an enlightening morning of decoding stories in the sand. We will walk about 3 miles and spend time on uneven surfaces. Co-hosted by Wells Reserve and York County Audubon. $30/$25 plus site admission. Registration required at 207-646-1555 x116 or suzanne@wellsnerr.org.
X-ALT-DESC;FMTTYPE=text/html:<span style="font-family:calibri\,sans-serif\;"><span style="font-size:11.0pt\;">Saturday\, July 16\, 7:30-10:30am</span></span><br />\n<span style="font-family:calibri\,sans-serif\;"><span style="font-size:11.0pt\;">Wildlife Track and Sign by the Sea. The sands of Laudholm Beach reveal the stories of a diverse array of birds\, mammals\, and invertebrates. Join Certified Wildlife Tracker and Maine Guide Dan Gardoqui for an enlightening morning of decoding stories in the sand. We will walk about 3 miles and spend time on uneven surfaces. Co-hosted by Wells Reserve and York County Audubon. $30/$25 plus site admission. Registration required at 207-646-1555 x116 or suzanne@wellsnerr.org. </span></span><br />\n&nbsp\;
LOCATION:Wells Reserve at Laudholm 342 Laudholm Farm Rd Wells ME 04090 wellsreserve.org
UID:e.3240.3236
SEQUENCE:3
DTSTAMP:20260424T154641Z
URL:https://www.wellschamber.org/events/details/wildlife-track-and-sign-by-the-sea-3236
END:VEVENT

END:VCALENDAR
