BEGIN:VCALENDAR
VERSION:2.0
PRODID:-//ChamberMaster//Event Calendar 2.0//EN
METHOD:PUBLISH
X-PUBLISHED-TTL:P3D
REFRESH-INTERVAL:P3D
CALSCALE:GREGORIAN
BEGIN:VEVENT
DTSTART:20220726T170000Z
DTEND:20220726T180000Z
X-MICROSOFT-CDO-ALLDAYEVENT:FALSE
SUMMARY:Wells Salt Marshes Over Time
DESCRIPTION:Tuesday\, July 26\, 1-2pm\n\nWells Salt Marshes Over Time. While tidal flooding can create problems for people\, it is a normal part of daily life in salt marshes. Under the right conditions a salt marsh grows\, thrives\, and adjusts to changing sea levels\, but too much flooding can be detrimental\, a problem made worse by rapid sea level rise. Can Wells salt marshes keep up? Meet Laura Crane\, research associate at the Wells Reserve\, and learn how long-term monitoring on the Webhannet salt marsh has evolved and expanded to help address this question. Laura will introduce the methods used to detect changes in plant communities\, marsh elevation\, groundwater\, and other aspects of the salt marsh. Free with site admission. Registration required 207-646-1555 x116 or suzanne@wellsnerr.org.
X-ALT-DESC;FMTTYPE=text/html:<span style="font-family:calibri\,sans-serif\;"><span style="font-size:11.0pt\;">Tuesday\, July 26\, 1-2pm</span></span><br />\n<span style="font-family:calibri\,sans-serif\;"><span style="font-size:11.0pt\;">Wells Salt Marshes Over Time. While tidal flooding can create problems for people\, it is a normal part of daily life in salt marshes. Under the right conditions a salt marsh grows\, thrives\, and adjusts to changing sea levels\, but too much flooding can be detrimental\, a problem made worse by rapid sea level rise. Can Wells salt marshes keep up? Meet Laura Crane\, research associate at the Wells Reserve\, and learn how long-term monitoring on the Webhannet salt marsh has evolved and expanded to help address this question. Laura will introduce the methods used to detect changes in plant communities\, marsh elevation\, groundwater\, and other aspects of the salt marsh. Free with site admission. Registration required 207-646-1555 x116 or suzanne@wellsnerr.org.</span></span><br />\n&nbsp\;
LOCATION:Wells Reserve at Laudholm 342 Laudholm Farm Rd Wells ME 04090 wellsreserve.org
UID:e.3240.3244
SEQUENCE:3
DTSTAMP:20260424T151226Z
URL:https://www.wellschamber.org/events/details/wells-salt-marshes-over-time-3244
END:VEVENT

END:VCALENDAR
