BEGIN:VCALENDAR
VERSION:2.0
PRODID:-//ChamberMaster//Event Calendar 2.0//EN
METHOD:PUBLISH
X-PUBLISHED-TTL:P3D
REFRESH-INTERVAL:P3D
CALSCALE:GREGORIAN
BEGIN:VEVENT
DTSTART:20231028T140000Z
DTEND:20231028T153000Z
X-MICROSOFT-CDO-ALLDAYEVENT:FALSE
SUMMARY:Wells Quarry Tour
DESCRIPTION:Please join The Historical Society of Wells and Ogunquit for a fascinating tour of the historic Millennium Quarry in Wells! The unique pink granite from this quarry has been used in buildings and monuments all over the United States\, including the Tomb of the Unknown Soldier in Washington\, DC. The Quarry owners will lead us on a journey back in geologic time and offer a look at their current operations.
X-ALT-DESC;FMTTYPE=text/html:Please join The Historical Society of Wells and Ogunquit for a fascinating tour of the historic Millennium Quarry in Wells! The unique pink granite from this quarry has been used in buildings and monuments all over the United States\, including the Tomb of the Unknown Soldier in Washington\, DC. The Quarry owners will lead us on a journey back in geologic time and offer a look at their current operations.
LOCATION:Millennium Granite Quarry 50 Quarry Road Wells\, Maine 04090
UID:e.3240.4068
SEQUENCE:3
DTSTAMP:20260423T115250Z
URL:https://www.wellschamber.org/events/details/wells-quarry-tour-4068
END:VEVENT

END:VCALENDAR
