BEGIN:VCALENDAR
VERSION:2.0
PRODID:-//ChamberMaster//Event Calendar 2.0//EN
METHOD:PUBLISH
X-PUBLISHED-TTL:P3D
REFRESH-INTERVAL:P3D
CALSCALE:GREGORIAN
BEGIN:VEVENT
DTSTART:20240828T173000Z
DTEND:20240828T210000Z
X-MICROSOFT-CDO-ALLDAYEVENT:FALSE
SUMMARY:Wells Farmers Market
DESCRIPTION:Welcome to the\n\nWells Farmers Market\n\nConveniently located at the Wells Public Library parking lot\, right off Route 1\, from June 19 - September 25.\n\nEvery Wednesday 1:30-5pm
X-ALT-DESC;FMTTYPE=text/html:<div class="_2bafp" data-testid="richTextElement" id="comp-knf4vbxo">\n<p class="font_7" style="font-size:37px\; text-align:center"><span class="color_19"><span style="font-size:44px"><span style="font-family:americantypwrteritcw01--731025\,americantypwrteritcw02--737091\,serif"><span style="font-weight:bold">Welcome to the<br />\nWells Farmers Market</span></span></span></span></p>\n\n<p class="font_7" style="text-align:center\;font-size:17px"><span style="font-family:americantypwrteritcw01--731025\,americantypwrteritcw02--737091\,serif\; font-size:37px">Conveniently located at the Wells Public Library parking lot\, right off Route 1\, from June 19 - September 25.<br />\nEvery Wednesday 1:30-5pm&nbsp\;</span></p>\n</div>\n
LOCATION:Wells Public Library 1434 Post Road\, Route 1\, Wells
UID:e.3240.4254
SEQUENCE:3
DTSTAMP:20260424T084511Z
URL:https://www.wellschamber.org/events/details/wells-farmers-market-08-28-2024-4254
END:VEVENT

END:VCALENDAR
