BEGIN:VCALENDAR
VERSION:2.0
PRODID:-//ChamberMaster//Event Calendar 2.0//EN
METHOD:PUBLISH
X-PUBLISHED-TTL:P3D
REFRESH-INTERVAL:P3D
CALSCALE:GREGORIAN
BEGIN:VEVENT
DTSTART:20220719T140000Z
DTEND:20220719T160000Z
X-MICROSOFT-CDO-ALLDAYEVENT:FALSE
SUMMARY:Wabanaki Wonderings
DESCRIPTION:Tuesday\, July 19\, 10am-12pm\n\nWabanaki Wonderings. Reflect on life in southern coastal Maine before European settlers arrived\, using art by Penobscot historian James Francis and a guided walk to the salt marsh. Imagine a sweetgrass camp\, explore how people lived and thrived\, and share insights about Wabanaki life past and present. Linda Littlefield Grenfell\, of European descent\, has studied about and with the Wabanaki people. All information and knowledge is referenced to the Wabanaki people. $8/$6 plus site admission. Registration required at 207-646-1555 x128 or linda@wellsnerr.org.
X-ALT-DESC;FMTTYPE=text/html:<span style="font-family:calibri\,sans-serif\;"><span style="font-size:11.0pt\;">Tuesday\, July 19\, 10am-12pm</span></span><br />\n<span style="font-family:calibri\,sans-serif\;"><span style="font-size:11.0pt\;">Wabanaki Wonderings. Reflect on life in southern coastal Maine before European settlers arrived\, using art by Penobscot historian James Francis and a guided walk to the salt marsh. Imagine a sweetgrass camp\, explore how people lived and thrived\, and share insights about Wabanaki life past and present. Linda Littlefield Grenfell\, of European descent\, has studied about and with the Wabanaki people. All information and knowledge is referenced to the Wabanaki people. $8/$6 plus site admission. Registration required at 207-646-1555 x128 or linda@wellsnerr.org.</span></span>
LOCATION:Wells Reserve at Laudholm 342 Laudholm Farm Rd Wells ME 04090 wellsreserve.org
UID:e.3240.3238
SEQUENCE:3
DTSTAMP:20260424T151200Z
URL:https://www.wellschamber.org/events/details/wabanaki-wonderings-3238
END:VEVENT

END:VCALENDAR
