BEGIN:VCALENDAR
VERSION:2.0
PRODID:-//ChamberMaster//Event Calendar 2.0//EN
METHOD:PUBLISH
X-PUBLISHED-TTL:P3D
REFRESH-INTERVAL:P3D
CALSCALE:GREGORIAN
BEGIN:VEVENT
DTSTART:20210907T120000Z
DTEND:20210907T131500Z
X-MICROSOFT-CDO-ALLDAYEVENT:FALSE
SUMMARY:Virtual Morning Yoga via Zoom
DESCRIPTION:Virtual Morning Yoga via Zoom. A new 6-week series of gentle Hatha yoga classes begins online with the Wells Reserve. Increase your strength\, flexibility\, endurance\, focus\, and concentration with guidance from Leslie Fiore\, founder of Port Yoga in Kennebunkport\, who has been practicing and teaching yoga for nearly 20 years. The series costs $72/regular or $60/member. Registration required. Call 207-646-1555 ext 116 or email suzanne@wellsnerr.org to reserve your space. FMI wellsreserve.org/calendar
X-ALT-DESC;FMTTYPE=text/html:Virtual Morning Yoga via Zoom. A new 6-week series of gentle Hatha yoga classes begins online with the Wells Reserve. Increase your strength\, flexibility\, endurance\, focus\, and concentration with guidance from Leslie Fiore\, founder of Port Yoga in Kennebunkport\, who has been practicing and teaching yoga for nearly 20 years. The series costs $72/regular or $60/member. Registration required. Call 207-646-1555 ext 116 or email suzanne@wellsnerr.org to reserve your space. FMI wellsreserve.org/calendar<br />\n&nbsp\;
LOCATION:
UID:e.3240.1934
SEQUENCE:3
DTSTAMP:20260422T005753Z
URL:https://www.wellschamber.org/events/details/virtual-morning-yoga-via-zoom-1934
END:VEVENT

END:VCALENDAR
