BEGIN:VCALENDAR
VERSION:2.0
PRODID:-//ChamberMaster//Event Calendar 2.0//EN
METHOD:PUBLISH
X-PUBLISHED-TTL:P3D
REFRESH-INTERVAL:P3D
CALSCALE:GREGORIAN
BEGIN:VEVENT
DTSTART:20230711T210000Z
DTEND:20230711T230000Z
X-MICROSOFT-CDO-ALLDAYEVENT:FALSE
SUMMARY:Tuesday Talk – Katherine Bradford and Celeste Roberge
DESCRIPTION:Conversation between artists Katherine Bradford and Celeste Roberge from the exhibition Shifting Sands\, moderated by Donna Cassidy\, Guest Curator.\n\n\n\nTuesday Talks are free with admission\, and always free for members. Click here to join as a member.
X-ALT-DESC;FMTTYPE=text/html:<div>\n<div>Conversation between artists Katherine Bradford and Celeste Roberge from the exhibition&nbsp\;<a href="https://ogunquitmuseum.org/exhibition/shifting-sands-beaches-bathers-and-modern-maine-art/">Shifting Sands</a>\, moderated by Donna Cassidy\, Guest Curator.<br />\n<br />\nTuesday Talks&nbsp\;are free with admission\, and always free for members.&nbsp\;<a href="https://ogunquitmuseum.org/support/become-a-member/">Click here to join as a member.</a></div>\n</div>\n\n<div>\n<div>\n<div>\n<div>&nbsp\;</div>\n</div>\n</div>\n</div>\n
LOCATION:Ogunquit Museum of American Art 543 Shore Road Ogunquit\, ME 03907
UID:e.3240.3733
SEQUENCE:3
DTSTAMP:20260423T173903Z
URL:https://www.wellschamber.org/events/details/tuesday-talk-katherine-bradford-and-celeste-roberge-3733
END:VEVENT

END:VCALENDAR
