BEGIN:VCALENDAR
VERSION:2.0
PRODID:-//ChamberMaster//Event Calendar 2.0//EN
METHOD:PUBLISH
X-PUBLISHED-TTL:P3D
REFRESH-INTERVAL:P3D
CALSCALE:GREGORIAN
BEGIN:VEVENT
DTSTART:20230613T210000Z
DTEND:20230613T220000Z
X-MICROSOFT-CDO-ALLDAYEVENT:FALSE
SUMMARY:OMAA Tuesday Talk with Donna Cassidy
DESCRIPTION:In the first half of the twentieth century\, visual artists went to the beach to define themselves as modern by experimenting with new styles and by picturing and promoting this new social and cultural space. This talk will examine the shifting meanings of the beach and the varied ways that it functioned in early twentieth-century art as modern\, both in Ogunquit and in the northeastern United States. It will draw on the many artworks in the exhibition Shifting Sands. * THIS LECTURE WILL TAKE PLACE ON ZOOM
X-ALT-DESC;FMTTYPE=text/html:In the first half of the twentieth century\, visual artists went to the beach to define themselves as&nbsp\;modern&mdash\;by experimenting with new styles and by picturing and promoting this new social and cultural space. This talk will examine the shifting meanings of the beach and the varied ways that it functioned in early twentieth-century art as modern\, both in Ogunquit and in the northeastern United States. It will draw on the many artworks in the exhibition&nbsp\;<a href="https://ogunquitmuseum.org/exhibition/shifting-sands-beaches-bathers-and-modern-maine-art/">Shifting Sands</a>. * THIS LECTURE WILL TAKE PLACE ON ZOOM\n<h3>&nbsp\;</h3>\n
LOCATION:ZOOM
UID:e.3240.3719
SEQUENCE:3
DTSTAMP:20260423T193732Z
URL:https://www.wellschamber.org/events/details/tuesday-talk-donna-cassidy-3719
END:VEVENT

END:VCALENDAR
