BEGIN:VCALENDAR
VERSION:2.0
PRODID:-//ChamberMaster//Event Calendar 2.0//EN
METHOD:PUBLISH
X-PUBLISHED-TTL:P3D
REFRESH-INTERVAL:P3D
CALSCALE:GREGORIAN
BEGIN:VEVENT
DTSTART:20231010T230000Z
DTEND:20231011T003000Z
X-MICROSOFT-CDO-ALLDAYEVENT:FALSE
SUMMARY:Tuesday Night Trivia!
DESCRIPTION:Kennebunks Local Hangout does trivia every Tuesday. Come join the fun!
X-ALT-DESC;FMTTYPE=text/html:Kennebunks Local Hangout does trivia every Tuesday. Come join the fun!
LOCATION:Garden Street Bowl
UID:e.3240.3849
SEQUENCE:3
DTSTAMP:20260423T120852Z
URL:https://www.wellschamber.org/events/details/tuesday-night-trivia-10-10-2023-3849
END:VEVENT

END:VCALENDAR
