BEGIN:VCALENDAR
VERSION:2.0
PRODID:-//ChamberMaster//Event Calendar 2.0//EN
METHOD:PUBLISH
X-PUBLISHED-TTL:P3D
REFRESH-INTERVAL:P3D
CALSCALE:GREGORIAN
BEGIN:VEVENT
DTSTART:20230703T010000Z
DTEND:20230703T023000Z
X-MICROSOFT-CDO-ALLDAYEVENT:FALSE
SUMMARY:The Elton John Experience
DESCRIPTION:"The Elton John Experience" as seen on America's Got Talent\n\n\n\nhttps://youtu.be/Sp6W9d2kWdY
X-ALT-DESC;FMTTYPE=text/html:<span style="color:rgb(43\, 104\, 147)\; font-family:open sans\,arial\,helvetica\,sans-serif\; font-size:14px">&ldquo\;The Elton John Experience&rdquo\; as seen on America&rsquo\;s Got Talent</span><br />\n<br />\n<a href="https://youtu.be/Sp6W9d2kWdY" style="outline: 0px\; margin: 0px\; padding: 0px\; border: 0px\; font-size: 14px\; vertical-align: baseline\; background: rgb(238\, 238\, 238)\; text-decoration-line: none\; color: rgb(105\, 42\, 46)\; font-family: &quot\;Open Sans&quot\;\, Arial\, Helvetica\, sans-serif\; letter-spacing: 0.2px\;" title="https://youtu.be/Sp6W9d2kWdY">https://youtu.be/Sp6W9d2kWdY</a>
LOCATION:92 Bourne Lane Ogunquit\, ME 03907 Just around the corner from OGT Playhouse
UID:e.3240.3508
SEQUENCE:3
DTSTAMP:20260423T173755Z
URL:https://www.wellschamber.org/events/details/the-elton-john-experience-07-02-2023-3508
END:VEVENT

END:VCALENDAR
