BEGIN:VCALENDAR
VERSION:2.0
PRODID:-//ChamberMaster//Event Calendar 2.0//EN
METHOD:PUBLISH
X-PUBLISHED-TTL:P3D
REFRESH-INTERVAL:P3D
CALSCALE:GREGORIAN
BEGIN:VEVENT
DTSTART:20220724T010000Z
DTEND:20220724T030000Z
X-MICROSOFT-CDO-ALLDAYEVENT:FALSE
SUMMARY:Termanology with ISHAN and DJ DEADEYE
DESCRIPTION:Termanology is joined by ISHAN and DJ DEADEYE for a night of hiphop at The Runaway Saturday July 23rd\, doors 8pm/show 9pm!\n\n\n\nDaniel Carrillo\, better known by his stage name Termanology\, first gained major attention with his 2006 single "Watch How It Go Down" A solo album\, Politics as Usual\, was released in 2008. He has made a number of collaborative albums\, such as 1982 (released in 2010) and is also known for his prolific mixtape output.\n\n\n\nThe Runaway on Sanford Seacoast Regional Airport is Southern Maine's premier entertainment venue boasting an outdoor craft beer garden with 27 taps\, cocktail bar and full food menu.\n\n\n\nIG/FB @therunawayatpcc\n\n\n\nTickets available now at www.therunawayatpcc.com\n\n\n\n?21+ show - must have valid ID for entry
X-ALT-DESC;FMTTYPE=text/html:Termanology is joined by ISHAN and DJ DEADEYE for a night of hiphop at The Runaway Saturday July 23rd\, doors 8pm/show 9pm!<br />\n<br />\nDaniel Carrillo\, better known by his stage name Termanology\, first gained major attention with his 2006 single &quot\;Watch How It Go Down&quot\; A solo album\, Politics as Usual\, was released in 2008. He has made a number of collaborative albums\, such as 1982 (released in 2010) and is also known for his prolific mixtape output.<br />\n<br />\nThe Runaway on Sanford Seacoast Regional Airport is Southern Maine&#39\;s premier entertainment venue boasting an outdoor craft beer garden with 27 taps\, cocktail bar and full food menu.<br />\n<br />\nIG/FB @therunawayatpcc<br />\n<br />\nTickets available now at www.therunawayatpcc.com<br />\n<br />\n?21+ show - must have valid ID for entry
LOCATION:199 Airport Rd Sanford\, Maine
UID:e.3240.2702
SEQUENCE:3
DTSTAMP:20260424T151415Z
URL:https://www.wellschamber.org/events/details/termanology-with-ishan-and-dj-deadeye-2702
END:VEVENT

END:VCALENDAR
