BEGIN:VCALENDAR
VERSION:2.0
PRODID:-//ChamberMaster//Event Calendar 2.0//EN
METHOD:PUBLISH
X-PUBLISHED-TTL:P3D
REFRESH-INTERVAL:P3D
CALSCALE:GREGORIAN
BEGIN:VEVENT
DTSTART:20220714T210000Z
DTEND:20220714T230000Z
X-MICROSOFT-CDO-ALLDAYEVENT:FALSE
SUMMARY:Teen Movie Night
DESCRIPTION:Teen Movie Night\n\nThursday\, July 14 at 5 p.m.\n\nCome to the library to enjoy a movie on our projector screen! Teens can vote for the movie they want to watch each month. Popcorn and snacks will be available! This free event is sponsored by the Friends of the Wells Public Library. For more information\, please contact Allison Herman at aherman@wellstown.org or call the library at 207-646-8181.
X-ALT-DESC;FMTTYPE=text/html:<a name="_Hlk105495917"><strong><span style="color:#336600\;"><span style="font-family:arial\,sans-serif\;"><span style="font-size:11.0pt\;">Teen Movie Night</span></span></span></strong></a><br />\n<strong><span style="font-family:arial\,sans-serif\;"><span style="font-size:9.0pt\;">Thursday\, July 14 at 5 p.m.</span></span></strong><br />\n<span style="background:white\;"><span style="color:black\;"><span style="font-family:calibri\,sans-serif\;"><span style="font-size:11.0pt\;">Come to the library to enjoy a movie on our projector screen! Teens can vote for the movie they want to watch each month. Popcorn and snacks will be available! </span></span></span></span><span style="background:white\;"><span style="color:black\;"><span style="font-family:calibri\,sans-serif\;"><span style="font-size:11.0pt\;">This free event is sponsored by the Friends of the Wells Public Library. For more information\, please contact Allison Herman at </span></span></span></span><a href="mailto:aherman@wellstown.org"><span style="background:white\;text-decoration:none\;text-underline:none\;"><span style="color:black\;"><span style="font-family:calibri\,sans-serif\;"><span style="font-size:11.0pt\;">aherman@wellstown.org</span></span></span></span></a><span style="background:white\;"><span style="color:black\;"><span style="font-family:calibri\,sans-serif\;"><span style="font-size:11.0pt\;">&nbsp\;or call the library at 207-646-8181.</span></span></span></span><br />\n&nbsp\;
LOCATION:WELLS PUBLIC LIBRARY 1434 Post Road\, Wells\, ME 04090
UID:e.3240.3257
SEQUENCE:3
DTSTAMP:20260424T152224Z
URL:https://www.wellschamber.org/events/details/teen-movie-night-3257
END:VEVENT

END:VCALENDAR
