BEGIN:VCALENDAR
VERSION:2.0
PRODID:-//ChamberMaster//Event Calendar 2.0//EN
METHOD:PUBLISH
X-PUBLISHED-TTL:P3D
REFRESH-INTERVAL:P3D
CALSCALE:GREGORIAN
BEGIN:VEVENT
DTSTART:20220712T223000Z
DTEND:20220712T233000Z
X-MICROSOFT-CDO-ALLDAYEVENT:FALSE
SUMMARY:Sustainable Lobstering in Maine
DESCRIPTION:Sustainable Lobstering in Maine (Zoom and In-person) \n\nTuesday\, July 12 at 6:30 p.m.\n\nCome learn about the early history of the lobster industry and discuss the techniques and economic significance of lobstering in Maine today. We will also take a closer look at the lobster's anatomy and life cycle. This program is presented by the Maine State Museum via Zoom. Join us at the library as we will be watching the presentation here\, or email Stefanie at sclaydon@wellstown.org for the Zoom invitation. This free event is sponsored by the Friends of the Wells Public Library. For more information\, please contact Stefanie Claydon at sclaydon@wellstown.org or call the library at 207-646-8181.
X-ALT-DESC;FMTTYPE=text/html:<strong><span style="background:white\;"><span style="color:#336600\;"><span style="font-family:arial\,sans-serif\;"><span style="font-size:11.0pt\;">Sustainable Lobstering in Maine (Zoom and In-person) </span></span></span></span></strong><br />\n<strong><span style="font-family:arial\,sans-serif\;"><span style="font-size:9.0pt\;">Tuesday\, July 12 at 6:30 p.m.</span></span></strong><br />\n<span style="background:white\;"><span style="color:black\;"><span style="font-family:calibri\,sans-serif\;"><span style="font-size:11.0pt\;">Come learn about the early history of the lobster industry and discuss the techniques and economic significance of lobstering in Maine today. We will also take a closer look at the lobster&rsquo\;s anatomy and life cycle. This program is presented by the Maine State Museum via Zoom. Join us at the library as we will be watching the presentation here\, or </span></span></span></span><strong><span style="font-family:calibri\,sans-serif\;"><span style="font-size:11.0pt\;">email Stefanie at sclaydon@wellstown.org for the Zoom invitation.</span></span></strong><span style="font-family:calibri\,sans-serif\;"><span style="font-size:11.0pt\;"> This free event is sponsored by the Friends of the Wells Public Library. For more information\, please contact Stefanie Claydon at sclaydon@wellstown.org or call the library at 207-646-8181.&nbsp\;</span></span><br />\n&nbsp\;
LOCATION:WELLS PUBLIC LIBRARY 1434 Post Road\, Wells\, ME 04090
UID:e.3240.3263
SEQUENCE:3
DTSTAMP:20260424T151349Z
URL:https://www.wellschamber.org/events/details/sustainable-lobstering-in-maine-3263
END:VEVENT

END:VCALENDAR
