BEGIN:VCALENDAR
VERSION:2.0
PRODID:-//ChamberMaster//Event Calendar 2.0//EN
METHOD:PUBLISH
X-PUBLISHED-TTL:P3D
REFRESH-INTERVAL:P3D
CALSCALE:GREGORIAN
BEGIN:VEVENT
DTSTART;VALUE=DATE:20240713
DTEND;VALUE=DATE:20240715
TRANSP:TRANSPARENT
X-MICROSOFT-CDO-ALLDAYEVENT:TRUE
SUMMARY:Summer Solstice Craft Show
DESCRIPTION:Enjoy the best of art and craft at our July 13 & 14 summer craft show that is a festive tradition in Wells\, Maine.  The annual JULY Summer Solstice Craft Show\, now in its 40th year\, is truly a "not to be missed" Event!  This juried craft show features 80 + crafters and artists that will display\, demonstrate and sell their hand crafted items.  You will find stained glass\, jewelry\, pottery\, soaps\, wood crafts\, candles\, fiber art\, graphics\, specialty foods\, photography and much more. . . Event held Rain or Shine!
X-ALT-DESC;FMTTYPE=text/html:<span style="background-color:rgb(249\, 249\, 249)\; color:rgb(51\, 51\, 51)\; font-family:raleway\,sans-serif\; font-size:16px">Enjoy the best of art and craft at our July 13 &amp\; 14 summer craft show that is a festive tradition in Wells\, Maine.&nbsp\; The annual JULY Summer Solstice Craft Show\, now in its 40th year\, is truly a &quot\;not to be missed&quot\; Event!&nbsp\; This juried craft show features 80 + crafters and artists that will display\, demonstrate and sell their hand crafted items.&nbsp\; You will find stained glass\, jewelry\, pottery\, soaps\, wood crafts\, candles\, fiber art\, graphics\, specialty foods\, photography and much more. . . Event held Rain or Shine!</span>
LOCATION:Wells Junior High School Campus 1470 Post Road\, Route 1\, Wells
UID:e.3240.4097
SEQUENCE:3
DTSTAMP:20260422T181311Z
URL:https://www.wellschamber.org/events/details/summer-solstice-craft-show-07-13-2024-4097
END:VEVENT

END:VCALENDAR
