BEGIN:VCALENDAR
VERSION:2.0
PRODID:-//ChamberMaster//Event Calendar 2.0//EN
METHOD:PUBLISH
X-PUBLISHED-TTL:P3D
REFRESH-INTERVAL:P3D
CALSCALE:GREGORIAN
BEGIN:VEVENT
DTSTART:20230708T160000Z
DTEND:20230708T210000Z
X-MICROSOFT-CDO-ALLDAYEVENT:FALSE
SUMMARY:Summer Fest Craft Fair
DESCRIPTION:You asked\, we answered!\n\n\n\nAfter 3 years and 1700+ successful virtual events\, Peace & Plenti is going to hold its first ever IN PERSON EVENT on July 8\, 2023 in Wells\, Maine!\n\n\n\nThe event will run from 12-5PM and will be rain or shine.\n\n\n\nCome on down and check out the variety of crafters\, makers\, and local business owners and show your support.\n\n\n\nWe will have giveaways\, door prizes\, raffles and MUCH MORE.\n\n\n\nBe sure to share and tell a friend
X-ALT-DESC;FMTTYPE=text/html:You asked\, we answered!<br />\n<br />\nAfter 3 years and 1700+ successful virtual events\, Peace &amp\; Plenti is going to hold its first ever IN PERSON EVENT on July 8\, 2023 in Wells\, Maine!<br />\n<br />\nThe event will run from 12-5PM and will be rain or shine.<br />\n<br />\nCome on down and check out the variety of crafters\, makers\, and local business owners and show your support.<br />\n<br />\nWe will have giveaways\, door prizes\, raffles and MUCH MORE.<br />\n<br />\nBe sure to share and tell a friend &hearts\;
LOCATION:Wells-Ogunquit Center at Moody 300 Post Road Wells\, ME 04090
UID:e.3240.3815
SEQUENCE:3
DTSTAMP:20260423T173929Z
URL:https://www.wellschamber.org/events/details/summer-fest-craft-fair-07-08-2023-3815
END:VEVENT

END:VCALENDAR
