BEGIN:VCALENDAR
VERSION:2.0
PRODID:-//ChamberMaster//Event Calendar 2.0//EN
METHOD:PUBLISH
X-PUBLISHED-TTL:P3D
REFRESH-INTERVAL:P3D
CALSCALE:GREGORIAN
BEGIN:VEVENT
DTSTART:20230729T220000Z
DTEND:20230730T000000Z
X-MICROSOFT-CDO-ALLDAYEVENT:FALSE
SUMMARY:Summer Concert Series: The Rockin' Daddios
DESCRIPTION:The Rockin' Daddios\n\nWeekly outdoor concert series. Concerts begin at 6:00pm every Saturday from July 1st - September 2nd.
X-ALT-DESC;FMTTYPE=text/html:<span style="font-size:16px\;">The Rockin&#39\; Daddios<br />\nWeekly outdoor concert series. Concerts begin at 6:00pm every Saturday from July 1st - September 2nd. </span>
LOCATION:Hope Hobbs Gazebo\, Harbor Park\, 331 Harbor Road\, Wells
UID:e.3240.3439
SEQUENCE:3
DTSTAMP:20260423T175255Z
URL:https://www.wellschamber.org/events/details/summer-concert-series-the-rockin-daddios-3439
END:VEVENT

END:VCALENDAR
