BEGIN:VCALENDAR
VERSION:2.0
PRODID:-//ChamberMaster//Event Calendar 2.0//EN
METHOD:PUBLISH
X-PUBLISHED-TTL:P3D
REFRESH-INTERVAL:P3D
CALSCALE:GREGORIAN
BEGIN:VEVENT
DTSTART:20230708T220000Z
DTEND:20230709T000000Z
X-MICROSOFT-CDO-ALLDAYEVENT:FALSE
SUMMARY:Summer Concert Series: The Party Starters Band
DESCRIPTION:The Party Starters are a popular band playing hits from the 1950s to today.  Country to Disco to Soul to Rock and Roll - music for all ages.\n\nFree weekly outdoor concert series.\n\nConcerts begin at 6:00pm every Saturday from July 1st - September 2nd.
X-ALT-DESC;FMTTYPE=text/html:<span style="font-family:arial\,sans-serif\;"><span style="font-size:12.0pt\;">The Party Starters are a popular band playing hits from the 1950s to today.&nbsp\; Country to Disco to Soul to Rock and Roll - music for all ages.</span></span><br />\n<span style="font-size:16px\;">Free weekly outdoor concert series.<br />\nConcerts begin at 6:00pm every Saturday from July 1st - September 2nd.</span>
LOCATION:Hope Hobbs Gazebo\, Harbor Park\, 331 Harbor Road\, Wells.
UID:e.3240.3436
SEQUENCE:3
DTSTAMP:20260423T193135Z
URL:https://www.wellschamber.org/events/details/summer-concert-series-the-party-starters-band-3436
END:VEVENT

END:VCALENDAR
