BEGIN:VCALENDAR
VERSION:2.0
PRODID:-//ChamberMaster//Event Calendar 2.0//EN
METHOD:PUBLISH
X-PUBLISHED-TTL:P3D
REFRESH-INTERVAL:P3D
CALSCALE:GREGORIAN
BEGIN:VEVENT
DTSTART:20220716T220000Z
DTEND:20220717T000000Z
X-MICROSOFT-CDO-ALLDAYEVENT:FALSE
SUMMARY:Summer Concert Series: The Bel Airs
DESCRIPTION:Free Weekly Summer Concerts at Harbor Park in Wells.\n\nThis week is The Bel Airs
X-ALT-DESC;FMTTYPE=text/html:Free Weekly Summer Concerts at Harbor Park in Wells.<br />\nThis week is The Bel Airs<br />\n&nbsp\;
LOCATION:331 Harbor Road\, Wells
UID:e.3240.2021
SEQUENCE:3
DTSTAMP:20260424T154956Z
URL:https://www.wellschamber.org/events/details/summer-concert-series-the-bel-airs-07-16-2022-2021
END:VEVENT

END:VCALENDAR
