BEGIN:VCALENDAR
VERSION:2.0
PRODID:-//ChamberMaster//Event Calendar 2.0//EN
METHOD:PUBLISH
X-PUBLISHED-TTL:P3D
REFRESH-INTERVAL:P3D
CALSCALE:GREGORIAN
BEGIN:VEVENT
DTSTART:20230805T220000Z
DTEND:20230806T000000Z
X-MICROSOFT-CDO-ALLDAYEVENT:FALSE
SUMMARY:Summer Concert Series: J.C. and the Elvis Experience
DESCRIPTION:This week: J.C. and the Elvis Experience\n\nFree Weekly Summer Concerts at Harbor Park in Wells.\n\nSaturdays at 6:00pm from July 1st - September 2nd.
X-ALT-DESC;FMTTYPE=text/html:This week: J.C. and the Elvis Experience<br />\nFree Weekly Summer Concerts at Harbor Park in Wells.<br />\nSaturdays at 6:00pm from July 1st - September 2nd.
LOCATION:Hope Hobbs Gazebo\, Wells Harbor Park\, 331 Harbor Road\, Wells
UID:e.3240.3440
SEQUENCE:3
DTSTAMP:20260423T174221Z
URL:https://www.wellschamber.org/events/details/summer-concert-series-j-c-and-the-elvis-experience-3440
END:VEVENT

END:VCALENDAR
