BEGIN:VCALENDAR
VERSION:2.0
PRODID:-//ChamberMaster//Event Calendar 2.0//EN
METHOD:PUBLISH
X-PUBLISHED-TTL:P3D
REFRESH-INTERVAL:P3D
CALSCALE:GREGORIAN
BEGIN:VEVENT
DTSTART:20220702T220000Z
DTEND:20220703T000000Z
X-MICROSOFT-CDO-ALLDAYEVENT:FALSE
SUMMARY:Summer Concert Series: J.C. and the Elvis Experience
DESCRIPTION:Free Weekly Summer Concerts at Harbor Park in Wells.\n\nThis week is J.C. and the Elvis Experience
X-ALT-DESC;FMTTYPE=text/html:Free Weekly Summer Concerts at Harbor Park in Wells.<br />\nThis week is J.C. and the Elvis Experience<br />\n&nbsp\;
LOCATION:331 Harbor Road\, Wells
UID:e.3240.2019
SEQUENCE:3
DTSTAMP:20260424T152508Z
URL:https://www.wellschamber.org/events/details/summer-concert-series-j-c-and-the-elvis-experience-07-02-2022-2019
END:VEVENT

END:VCALENDAR
