BEGIN:VCALENDAR
VERSION:2.0
PRODID:-//ChamberMaster//Event Calendar 2.0//EN
METHOD:PUBLISH
X-PUBLISHED-TTL:P3D
REFRESH-INTERVAL:P3D
CALSCALE:GREGORIAN
BEGIN:VEVENT
DTSTART:20230902T220000Z
DTEND:20230903T000000Z
X-MICROSOFT-CDO-ALLDAYEVENT:FALSE
SUMMARY:Summer Concert Series: Finest Kind Country Band
DESCRIPTION:Finest Kind Country Band - Traditional country music\, Texas-influenced sound\, and country blues.\n\nFree weekly outdoor concert series. Concerts begin at 6:00pm every Saturday from July 1st - September 2nd.
X-ALT-DESC;FMTTYPE=text/html:<span style="font-size:12.0pt\;font-family:&quot\;Arial&quot\;\,sans-serif\;\nmso-fareast-font-family:Calibri\;mso-fareast-theme-font:minor-latin\;mso-ligatures:\nstandard\;mso-ansi-language:EN-US\;mso-fareast-language:EN-US\;mso-bidi-language:\nAR-SA\;mso-bidi-font-weight:bold">Finest Kind Country Band - Traditional country music\, Texas-influenced sound\, and country blues.</span><br />\n<span style="font-size:16px\;">Free weekly outdoor concert series. Concerts begin at 6:00pm every Saturday from July 1st - September 2nd.</span>
LOCATION:Hope Hobbs Gazebo\, Harbor Park\, 331 Harbor Road\, Wells.
UID:e.3240.3444
SEQUENCE:3
DTSTAMP:20260422T102004Z
URL:https://www.wellschamber.org/events/details/summer-concert-series-finest-kind-country-band-3444
END:VEVENT

END:VCALENDAR
