BEGIN:VCALENDAR
VERSION:2.0
PRODID:-//ChamberMaster//Event Calendar 2.0//EN
METHOD:PUBLISH
X-PUBLISHED-TTL:P3D
REFRESH-INTERVAL:P3D
CALSCALE:GREGORIAN
BEGIN:VEVENT
DTSTART:20230826T220000Z
DTEND:20230827T000000Z
X-MICROSOFT-CDO-ALLDAYEVENT:FALSE
SUMMARY:Summer Concert Series: Dock Squares
DESCRIPTION:Dock Squares\n\nFree weekly outdoor concert series. Concerts begin at 6:00pm every Saturday from July 1st - September 2nd.
X-ALT-DESC;FMTTYPE=text/html:<span style="font-size:16px\;">Dock Squares<br />\nFree weekly outdoor concert series. Concerts begin at 6:00pm every Saturday from July 1st - September 2nd.</span>
LOCATION:Hope Hobbs Gazebo\, Harbor Park\, 331 Harbor Road\, Wells
UID:e.3240.3443
SEQUENCE:3
DTSTAMP:20260423T173744Z
URL:https://www.wellschamber.org/events/details/summer-concert-series-dock-squares-3443
END:VEVENT

END:VCALENDAR
