BEGIN:VCALENDAR
VERSION:2.0
PRODID:-//ChamberMaster//Event Calendar 2.0//EN
METHOD:PUBLISH
X-PUBLISHED-TTL:P3D
REFRESH-INTERVAL:P3D
CALSCALE:GREGORIAN
BEGIN:VEVENT
DTSTART:20220709T220000Z
DTEND:20220710T000000Z
X-MICROSOFT-CDO-ALLDAYEVENT:FALSE
SUMMARY:Summer Concert Series: Club Soda Band
DESCRIPTION:Free Weekly Summer Concerts at Harbor Park in Wells.\n\nThis week is Club Soda Band
X-ALT-DESC;FMTTYPE=text/html:Free Weekly Summer Concerts at Harbor Park in Wells.<br />\nThis week is Club Soda Band<br />\n&nbsp\;
LOCATION:331 Harbor Road\, Wells
UID:e.3240.2020
SEQUENCE:3
DTSTAMP:20260424T152647Z
URL:https://www.wellschamber.org/events/details/summer-concert-series-club-soda-band-07-09-2022-2020
END:VEVENT

END:VCALENDAR
