BEGIN:VCALENDAR
VERSION:2.0
PRODID:-//ChamberMaster//Event Calendar 2.0//EN
METHOD:PUBLISH
X-PUBLISHED-TTL:P3D
REFRESH-INTERVAL:P3D
CALSCALE:GREGORIAN
BEGIN:VEVENT
DTSTART:20240810T220000Z
DTEND:20240811T000000Z
X-MICROSOFT-CDO-ALLDAYEVENT:FALSE
SUMMARY:Summer Concert Series
DESCRIPTION:Weekly outdoor concert series.\n\nDifferent band every week.\n\nConcerts begin at 6:00 pm every Saturday from June 22 - August 31.
X-ALT-DESC;FMTTYPE=text/html:<span style="font-size:16px\;">Weekly outdoor concert series.<br />\nDifferent band every week.<br />\nConcerts begin at 6:00 pm every Saturday from June 22 - August 31. </span>
LOCATION:Hope Hobbs Gazebo\, Harbor Park 331 Harbor Road\, Wells
UID:e.3240.4290
SEQUENCE:3
DTSTAMP:20260422T162514Z
URL:https://www.wellschamber.org/events/details/summer-concert-series-08-10-2024-4290
END:VEVENT

END:VCALENDAR
