BEGIN:VCALENDAR
VERSION:2.0
PRODID:-//ChamberMaster//Event Calendar 2.0//EN
METHOD:PUBLISH
X-PUBLISHED-TTL:P3D
REFRESH-INTERVAL:P3D
CALSCALE:GREGORIAN
BEGIN:VEVENT
DTSTART:20230711T143000Z
DTEND:20230711T151000Z
X-MICROSOFT-CDO-ALLDAYEVENT:FALSE
SUMMARY:Story Time with The Wells Public Library at the OMAA
DESCRIPTION:Bring a blanket and join us for children's story time on the lawn with a craft project (ages 6 under plus adult guardian). Siblings welcome\, no pre-registration required\, and enjoy free admission to the museum following the event.
X-ALT-DESC;FMTTYPE=text/html:<div>\n<p>Bring a blanket and join us for children&rsquo\;s story time on the lawn with a craft project (ages 6 under plus adult guardian). Siblings welcome\, no pre-registration required\, and enjoy free admission to the museum following the event.</p>\n</div>\n
LOCATION:Ogunquit Museum of American Art 543 Shore Road Ogunquit\, ME 03907
UID:e.3240.3731
SEQUENCE:3
DTSTAMP:20260423T175617Z
URL:https://www.wellschamber.org/events/details/story-time-with-the-wells-public-library-at-the-omaa-3731
END:VEVENT

END:VCALENDAR
