BEGIN:VCALENDAR
VERSION:2.0
PRODID:-//ChamberMaster//Event Calendar 2.0//EN
METHOD:PUBLISH
X-PUBLISHED-TTL:P3D
REFRESH-INTERVAL:P3D
CALSCALE:GREGORIAN
BEGIN:VEVENT
DTSTART:20220702T220000Z
DTEND:20220703T000000Z
X-MICROSOFT-CDO-ALLDAYEVENT:FALSE
SUMMARY:Steppin' Out Blues Band!
DESCRIPTION:Join us for real Chicago-style Blues while you drink and dine on our patio overlooking the Sanford Airport! \n\n\n\nThe Runaway on Sanford Seacoast Regional Airport is Southern Maine's premier entertainment venue boasting an outdoor craft beer garden with 27 taps\, cocktail bar and full food menu.\n\n\n\nIG/FB @therunawayatpcc\n\n\n\nTickets available now at www.therunawayatpcc.com
X-ALT-DESC;FMTTYPE=text/html:Join us for real Chicago-style Blues while you drink and dine on our patio overlooking the Sanford Airport!&nbsp\;<br />\n<br />\nThe Runaway on Sanford Seacoast Regional Airport is Southern Maine&#39\;s premier entertainment venue boasting an outdoor craft beer garden with 27 taps\, cocktail bar and full food menu.<br />\n<br />\nIG/FB @therunawayatpcc<br />\n<br />\nTickets available now at www.therunawayatpcc.com<br />\n<br />\n&nbsp\;
LOCATION:199 Airport Rd Sanford\, Maine
UID:e.3240.2699
SEQUENCE:3
DTSTAMP:20260424T152225Z
URL:https://www.wellschamber.org/events/details/steppin-out-blues-band-07-02-2022-2699
END:VEVENT

END:VCALENDAR
