BEGIN:VCALENDAR
VERSION:2.0
PRODID:-//ChamberMaster//Event Calendar 2.0//EN
METHOD:PUBLISH
X-PUBLISHED-TTL:P3D
REFRESH-INTERVAL:P3D
CALSCALE:GREGORIAN
BEGIN:VEVENT
DTSTART:20230913T223000Z
DTEND:20230914T003000Z
X-MICROSOFT-CDO-ALLDAYEVENT:FALSE
SUMMARY:Stargazing at the ASNNE Observatory
DESCRIPTION:Join the Wells Library and the Astronomical Society of Northern New England to have a star party and view the night sky through their telescopes for the autumnal equinox. Did you know that the dark spots on the moon are known as "maria" aka the Latin word for seas?  We will be able to view some features of the moon\, including craters and maria\, and other interesting stellar features. \n\nThis program will be held at the ASNNE Observatory in Kennebunk.\n\nhttp://www.asnne.org/starfield_observatory.php\n\n*Registration is required*\n\nFor more information\, please contact Stefanie Claydon at sclaydon@wellstown.org or by calling the library at 207-646-8181.
X-ALT-DESC;FMTTYPE=text/html:<span style="color:#050505">Join the Wells Library and the Astronomical Society of Northern New England to have a star party and view the night sky through their telescopes for the autumnal equinox. Did you know that the dark spots on the moon are known as &ldquo\;maria&rdquo\; aka the Latin word for seas?&nbsp\; We will be able to view some features of the moon\, including craters and maria\, and other interesting stellar features. </span><br />\n<span style="color:#050505">This program will be held at the ASNNE Observatory in Kennebunk.</span><br />\n<span style="color:black"><a href="https://l.facebook.com/l.php?u=http%3A%2F%2Fwww.asnne.org%2Fstarfield_observatory.php%3Ffbclid%3DIwAR1-IUf0phziGJ42-i9GJasXpiHp9RT4UwWVhENIh1tgyizH9hqXKimKGFw&amp\;h=AT3nM9N6msuM3zGMCmNhQiwXBe2lG1_Y_qaxdH7BQMyd1wMxRHwCzi5uTpxhjK_FPJYg4PdV0ngYEKzSy4i_Ba2WRhRQpaXYuKi4xqOBtjpoKc7WX867mzltD_DyoeYH&amp\;__tn__=q&amp\;c%5b0%5d=AT3J--viGLZS7_SQErmAzEBSZlKtdYtM8dZTMJfKc01SP5pUNNmulKBE6F6Cdhsic5BCdqlJhGX6TFVzjRDGSVClekHVapI9gi_BGlPTZv8f0xUXn2pyYM1MVLy7e4qsk1UwinOr3TyxxDvxAFTVHmXB" target="_blank">http://www.asnne.org/starfield_observatory.php</a></span><br />\n<span style="color:#FF0000"><strong>*Registration is required*</strong></span><br />\n<span style="color:#050505">For more information\, please contact Stefanie Claydon at sclaydon@wellstown.org or by calling the library at 207-646-8181.</span><br />\n&nbsp\;
LOCATION:Starfield Observatory in Kennebunk http://www.asnne.org/starfield_observatory.php
UID:e.3240.3840
SEQUENCE:3
DTSTAMP:20260422T102004Z
URL:https://www.wellschamber.org/events/details/stargazing-at-the-asnne-observatory-09-13-2023-3840
END:VEVENT

END:VCALENDAR
