BEGIN:VCALENDAR
VERSION:2.0
PRODID:-//ChamberMaster//Event Calendar 2.0//EN
METHOD:PUBLISH
X-PUBLISHED-TTL:P3D
REFRESH-INTERVAL:P3D
CALSCALE:GREGORIAN
BEGIN:VEVENT
DTSTART:20230727T130000Z
DTEND:20230727T180000Z
X-MICROSOFT-CDO-ALLDAYEVENT:FALSE
SUMMARY:So You Think You Can Dance?
DESCRIPTION:SonDance Academy is hosting their Summer Camp\, So You Think You Can Dance?  July 24th-28th from 9am-2pm.  This camp is for children ages 7-13.  Cost is $125.\n\nCall SonDance Academy at 207-985-9287 to sign up or you can visit our website here.
X-ALT-DESC;FMTTYPE=text/html:SonDance Academy is hosting their Summer Camp\, So You Think You Can Dance?&nbsp\; July 24th-28th from 9am-2pm.&nbsp\; This camp is for children ages 7-13.&nbsp\; Cost is $125.<br />\nCall SonDance Academy at 207-985-9287 to sign up or you can visit our website <a href="https://sondanceacademy.messiahchristianchurch.org/sondance-summer-camp/"><span style="color:#800080"><strong>here</strong></span></a>.
LOCATION:SonDance Academy 2700 Post Road Wells\, ME 04090
UID:e.3240.3773
SEQUENCE:3
DTSTAMP:20260423T193042Z
URL:https://www.wellschamber.org/events/details/so-you-think-you-can-dance-07-27-2023-3773
END:VEVENT

END:VCALENDAR
