BEGIN:VCALENDAR
VERSION:2.0
PRODID:-//ChamberMaster//Event Calendar 2.0//EN
METHOD:PUBLISH
X-PUBLISHED-TTL:P3D
REFRESH-INTERVAL:P3D
CALSCALE:GREGORIAN
BEGIN:VEVENT
DTSTART:20231010T210000Z
DTEND:20231010T223000Z
X-MICROSOFT-CDO-ALLDAYEVENT:FALSE
SUMMARY:SMAA Welcome To Medicare Seminar
DESCRIPTION:Learn the basics about Medicare: \n\nCome to the Welcome to Medicare Seminar\, which offers participants valuable information presented in plain and understandable language. It covers the basics of Medicare enrollment and helps you prepare to make informed decisions\, based on your personal situation. The seminar is interactive with time for small-group discussion and individual questions.  \n\nThe in-person seminar will be held at Wells Library on Tuesday\, October 10\, 2023\, from 5 to 6:30pm.\n\n Pre-registration is required. \n\nPlease contact Southern Maine Agency on Aging at 207-396-6524 or www.smaaa.org to register for the seminar.
X-ALT-DESC;FMTTYPE=text/html:<strong><span style="color:black"><span style="font-family:calibri\,sans-serif"><span style="font-size:11.0pt">Learn the basics about Medicare</span></span></span></strong><span style="color:black"><span style="font-family:calibri\,sans-serif"><span style="font-size:11.0pt">:&nbsp\;</span></span></span><br />\n<span style="color:black"><span style="font-family:calibri\,sans-serif"><span style="font-size:11.0pt">Come to the&nbsp\;<strong>Welcome to Medicare Seminar\,&nbsp\;</strong>which offers&nbsp\;participants valuable information presented in plain and understandable language. It covers the basics of Medicare enrollment and helps you prepare to make informed&nbsp\;decisions\,&nbsp\;based on your personal situation. The seminar is interactive with time for small-group discussion and individual questions.&nbsp\;&nbsp\;</span></span></span><br />\n<span style="color:black"><span style="font-family:calibri\,sans-serif"><span style="font-size:11.0pt">The&nbsp\;in-person&nbsp\;seminar will be held at Wells Library on&nbsp\;Tuesday\,&nbsp\;October 10\,&nbsp\;2023\,&nbsp\;from&nbsp\;5 to 6:30pm.<br />\n&nbsp\;<strong>Pre-registration is&nbsp\;required.</strong>&nbsp\;</span></span></span><br />\n<span style="color:black"><span style="font-family:calibri\,sans-serif"><span style="font-size:11.0pt">Please contact Southern Maine Agency on Aging at 207-396-6524 or&nbsp\;</span></span></span><span style="color:black"><a href="https://linkprotect.cudasvc.com/url?a=http%3a%2f%2fwww.smaaa.org%2f&amp\;c=E\,1\,MsUj4xT7lJvZVjAd2k0iIc6mkaSr0G_2O40kAeFywgKNDB9mS-F-T_h6DgsY-jxeh9sMykQDsMEpBSygQcLgPv_qVt7HqEeTFWiNp2khR638&amp\;typo=1" target="_blank"><span style="font-family:calibri\,sans-serif"><span style="font-size:11.0pt">www.smaaa.org</span></span></a></span><span style="color:black"><span style="font-family:calibri\,sans-serif"><span style="font-size:11.0pt">&nbsp\;to register for the seminar.&nbsp\;&nbsp\;</span></span></span>
LOCATION:Wells Public Library 1434 Post Road\, Route 1\, Wells
UID:e.3240.4056
SEQUENCE:3
DTSTAMP:20260423T121447Z
URL:https://www.wellschamber.org/events/details/smaa-welcome-to-medicare-seminar-10-10-2023-4056
END:VEVENT

END:VCALENDAR
