BEGIN:VCALENDAR
VERSION:2.0
PRODID:-//ChamberMaster//Event Calendar 2.0//EN
METHOD:PUBLISH
X-PUBLISHED-TTL:P3D
REFRESH-INTERVAL:P3D
CALSCALE:GREGORIAN
BEGIN:VEVENT
DTSTART:20230814T140000Z
DTEND:20230814T170000Z
X-MICROSOFT-CDO-ALLDAYEVENT:FALSE
SUMMARY:SMAA Drop In Medicare Sessions
DESCRIPTION:Southern Maine Agency on Aging Medicare Program will be here to help answer any questions you may have on Medicare\, such as how to enroll\, understanding your Medicare coverage\, or understanding your billing issues.\n\n\n\nThis unbiased free service is offered through a partnership with the Wells Library to help you make an informed decision about your health insurance. If you have any questions\, please call Southern Maine Agency on Aging at 207-396-6524 for more information.
X-ALT-DESC;FMTTYPE=text/html:<span style="color:black">Southern Maine Agency on Aging Medicare Program will be here to help answer any questions you may have on Medicare\, such as how to enroll\, understanding your Medicare coverage\, or understanding your billing issues.</span><br />\n<br />\n<span style="color:black">This unbiased free service is offered through a partnership with the Wells Library to help you make an informed decision about your health insurance. If you have any questions\, please call Southern Maine Agency on Aging at 207-396-6524 for more information. &nbsp\;</span>
LOCATION:Wells Public Library 1434 Post Road Wells\, ME 04090
UID:e.3240.3831
SEQUENCE:3
DTSTAMP:20260423T155321Z
URL:https://www.wellschamber.org/events/details/smaa-drop-in-medicare-sessions-08-14-2023-3831
END:VEVENT

END:VCALENDAR
