BEGIN:VCALENDAR
VERSION:2.0
PRODID:-//ChamberMaster//Event Calendar 2.0//EN
METHOD:PUBLISH
X-PUBLISHED-TTL:P3D
REFRESH-INTERVAL:P3D
CALSCALE:GREGORIAN
BEGIN:VEVENT
DTSTART:20230902T210000Z
DTEND:20230903T000000Z
X-MICROSOFT-CDO-ALLDAYEVENT:FALSE
SUMMARY:Sip & Shop Under The Stars
DESCRIPTION:Join Peace & Plenti as we say FAIR-Well to Summer with a Sip & Shop Under the Stars.\n\n \n\n I'm SOOO excited to announce that Peace & Plenti is going to hold its next ever IN PERSON EVENT on Saturday September 2\, 2023 at Arrowheads Estate in Cape Neddick\, Maine!\n\n \n\nJoin us for a fabulous evening of sipping delicious drinks\, shopping trendy products\, and enjoying the magical ambiance under the starry sky\n\n\n\nSip & Shop Under The Stars\n\nJoin us for an unforgettable evening of shopping and sipping under the stars! Get ready to indulge in retail therapy like never before. This in-person event is happening on Saturday\, September 2\, 2023 at 41 Ogunquit Road\, Cape Neddick\, ME 03902.\n\nDiscover a wide range of unique products from local vendors\, artisans\, and small businesses. From trendy fashion items to handmade crafts\, there's something for everyone. Grab a glass of your favorite beverage and browse through the charming stalls.\n\nImmerse yourself in the lively atmosphere as you mingle with fellow shoppers and enjoy live music playing in the background. This is the perfect opportunity to find one-of-a-kind treasures while supporting local businesses.\n\nDon't miss out on this exciting event! Mark your calendars and bring your friends along for a night of shopping\, sipping\, and stargazing. We can't wait to see you at Sip & Shop Under The Stars!
X-ALT-DESC;FMTTYPE=text/html:<p><span style="font-family:uictfonttextstylebody\; font-size:16px">Join Peace &amp\; Plenti as we say FAIR-Well to Summer with a Sip &amp\; Shop Under the Stars.</span></p>\n\n<p><span style="font-family:uictfonttextstylebody\; font-size:16px">&nbsp\;</span></p>\n\n<p><span style="font-family:uictfonttextstylebody\; font-size:16px">&hellip\;I&rsquo\;m SOOO excited to announce that Peace &amp\; Plenti is going to hold its next ever IN PERSON EVENT on Saturday September 2\, 2023 at Arrowheads Estate in Cape Neddick\, Maine!</span></p>\n\n<p>&nbsp\;</p>\n\n<div>Join us for a fabulous evening of sipping delicious drinks\, shopping trendy products\, and enjoying the magical ambiance under the starry sky</div>\n\n<div>\n<div>\n<p><strong>Sip &amp\; Shop Under The Stars</strong></p>\n\n<p>Join us for an unforgettable evening of shopping and sipping under the stars! Get ready to indulge in retail therapy like never before. This in-person event is happening on&nbsp\;<strong>Saturday\, September 2\, 2023</strong>&nbsp\;at&nbsp\;<strong>41 Ogunquit Road\, Cape Neddick\, ME 03902</strong>.</p>\n\n<p>Discover a wide range of unique products from local vendors\, artisans\, and small businesses. From trendy fashion items to handmade crafts\, there&#39\;s something for everyone. Grab a glass of your favorite beverage and browse through the charming stalls.</p>\n\n<p>Immerse yourself in the lively atmosphere as you mingle with fellow shoppers and enjoy live music playing in the background. This is the perfect opportunity to find one-of-a-kind treasures while supporting local businesses.</p>\n\n<p>Don&#39\;t miss out on this exciting event! Mark your calendars and bring your friends along for a night of shopping\, sipping\, and stargazing. We can&#39\;t wait to see you at&nbsp\;<strong>Sip &amp\; Shop Under The Stars</strong>!</p>\n</div>\n</div>\n\n<p><br />\n&nbsp\;</p>\n
LOCATION:Arrowheads Estate 41 Ogunquit Road Cape Neddick\, ME 03902 Saturday\, September 2\, 2023 - 5:00 PM - 8:00 PM
UID:e.3240.3829
SEQUENCE:3
DTSTAMP:20260422T101629Z
URL:https://www.wellschamber.org/events/details/sip-shop-under-the-stars-3829
END:VEVENT

END:VCALENDAR
