BEGIN:VCALENDAR
VERSION:2.0
PRODID:-//ChamberMaster//Event Calendar 2.0//EN
METHOD:PUBLISH
X-PUBLISHED-TTL:P3D
REFRESH-INTERVAL:P3D
CALSCALE:GREGORIAN
BEGIN:VEVENT
DTSTART:20240812T231500Z
DTEND:20240812T234500Z
X-MICROSOFT-CDO-ALLDAYEVENT:FALSE
SUMMARY:sculpt teacher training session
DESCRIPTION:Our teacher training program will enable you to teach a dynamic\, unique\, and challenging yoga sculpt class\, one appropriate for all levels. We'll dive into incorporating themes\, sequencing + musicality. You'll walk out with practical teaching experience\, which we start during the very first week. Our mission to help you find your true yoga teacher self and voice.
X-ALT-DESC;FMTTYPE=text/html:Our teacher training program will enable you to teach a dynamic\, unique\, and challenging yoga sculpt class\, one appropriate for all levels. We&rsquo\;ll dive into incorporating themes\, sequencing + musicality. You&rsquo\;ll walk out with practical teaching experience\, which we start during the very first week. Our mission to help you find your true yoga teacher self and voice.
LOCATION:the daily sweat 65 portland rd kennebunk \, ME
UID:e.3240.4529
SEQUENCE:3
DTSTAMP:20260422T220551Z
URL:https://www.wellschamber.org/events/details/sculpt-teacher-training-session-4529
END:VEVENT

END:VCALENDAR
