BEGIN:VCALENDAR
VERSION:2.0
PRODID:-//ChamberMaster//Event Calendar 2.0//EN
METHOD:PUBLISH
X-PUBLISHED-TTL:P3D
REFRESH-INTERVAL:P3D
CALSCALE:GREGORIAN
BEGIN:VEVENT
DTSTART:20230710T130000Z
DTEND:20230714T180000Z
X-MICROSOFT-CDO-ALLDAYEVENT:FALSE
SUMMARY:Science Fair Spectacular
DESCRIPTION:Ages 5 TO 7\n\n1 Week Session\n\n$425\n\nJUL 10 to JUL 14\n\nMON THRU FRI\, 9:00A - 2:00P\n\nOur students will have an exciting time combining science and music in this outstanding musical written specifically for this age group! A musical about great scientists\, we meet Einstein\, Marie Curie\, Galileo\, Sir Isaac Newton and others who sing a musically varied score with clever lyrics and deliver witty dialog that is sure to be a hit with students and parents alike! With songs like Surfin' Through the Science of Sound\, Ode to Pluto\, Three Laws of Motion and Go\, Galileo! it is sure to be a fun and immersive experience! Book by Sonya Piper and Music by Mark Burrows.\n\nPERFORMANCE FOR FAMILIES AND FRIENDS\n\nThe Playhouse Colony\n\nFRI JUL 14   Noon
X-ALT-DESC;FMTTYPE=text/html:<div style="margin-left:-17px\; margin-right:-17px">\n<div>\n<div>\n<div>\n<p>Ages 5 TO 7<br />\n1 Week Session<br />\n$425</p>\n\n<p>JUL 10 to JUL 14<br />\nMON THRU FRI\, 9:00A - 2:00P</p>\n\n<p>Our students will have an exciting time combining science and music in this outstanding musical written specifically for this age group! A musical about great scientists\, we meet Einstein\, Marie Curie\, Galileo\, Sir Isaac Newton and others who sing a musically varied score with clever lyrics and deliver witty dialog that is sure to be a hit with students and parents alike! With songs like Surfin&rsquo\; Through the Science of Sound\, Ode to Pluto\, Three Laws of Motion and Go\, Galileo! it is sure to be a fun and immersive experience! Book by Sonya Piper and Music by Mark Burrows.</p>\n\n<p><strong>PERFORMANCE FOR FAMILIES AND FRIENDS</strong><br />\n<em>The Playhouse Colony</em><br />\nFRI JUL 14 &mdash\; Noon</p>\n</div>\n</div>\n</div>\n</div>\n\n<div style="margin-left:-17px\; margin-right:-17px">\n<div>\n<div>&nbsp\;</div>\n</div>\n</div>\n
LOCATION:Ogunquit Playhouse Colony
UID:e.3240.3415
SEQUENCE:3
DTSTAMP:20260422T093851Z
URL:https://www.wellschamber.org/events/details/science-fair-spectacular-3415
END:VEVENT

END:VCALENDAR
