BEGIN:VCALENDAR
VERSION:2.0
PRODID:-//ChamberMaster//Event Calendar 2.0//EN
METHOD:PUBLISH
X-PUBLISHED-TTL:P3D
REFRESH-INTERVAL:P3D
CALSCALE:GREGORIAN
BEGIN:VEVENT
DTSTART:20250329T000000Z
DTEND:20250329T013000Z
X-MICROSOFT-CDO-ALLDAYEVENT:FALSE
SUMMARY:RUNNIN’ DOWN A DREAM - THE Tom Petty Tribute Band
DESCRIPTION:For over 40 years Tom Petty created timeless classics with the Heartbreakers\, Mudcrutch\, The Traveling Wilburys\, and released solo albums until his unfortunate death in 2017.  When five veteran musicians from Maine\, with local and national experience\, play Tom's music together the feeling\, meaning\, and very soul of these songs are undeniable.  Runnin' Down A Dream was created to perform the music of Tom Petty with authentic renditions from every stage of his career.  Our show faithfully replicates the style and feel of a Tom Petty and the Heartbreakers concert\, allowing the audience to experience the music of this extraordinary artist.
X-ALT-DESC;FMTTYPE=text/html:<div>For over 40 years Tom Petty created timeless classics with the Heartbreakers\, Mudcrutch\, The Traveling Wilburys\, and released solo albums until his unfortunate death in 2017.&nbsp\; When five veteran musicians from Maine\, with local and national experience\, play Tom&rsquo\;s music together the feeling\, meaning\, and very soul of these songs are undeniable.&nbsp\; Runnin&rsquo\; Down A Dream was created to perform the music of Tom Petty with authentic renditions from every stage of his career.&nbsp\; Our show faithfully replicates the style and feel of a Tom Petty and the Heartbreakers concert\, allowing the audience to experience the music of this extraordinary artist.</div>\n
LOCATION:92 Bourne Ln\, Ogunquit ME 03907
UID:e.3240.4670
SEQUENCE:3
DTSTAMP:20260422T083838Z
URL:https://www.wellschamber.org/events/details/runnin-down-a-dream-the-tom-petty-tribute-band-03-28-2025-4670
END:VEVENT

END:VCALENDAR
