BEGIN:VCALENDAR
VERSION:2.0
PRODID:-//ChamberMaster//Event Calendar 2.0//EN
METHOD:PUBLISH
X-PUBLISHED-TTL:P3D
REFRESH-INTERVAL:P3D
CALSCALE:GREGORIAN
BEGIN:VEVENT
DTSTART:20250309T010000Z
DTEND:20250309T023000Z
X-MICROSOFT-CDO-ALLDAYEVENT:FALSE
SUMMARY:Rolling Stones Tribute with 19th Nervous Breakdown
DESCRIPTION:New England's own Rolling Stones tribute band\, 19th Nervous Breakdown\, debuts at Jonathan's on Saturday\, March 8th\, 2025! This tribute band celebrates the music of the greatest\, most influential\, and longest-running rock act of all time! While not necessarily a band\, the act brings you a Mick Jagger looking front man and a sound/stage that resembles the 1978 line-up. Join us for an unforgettable evening featuring the music of the Rolling Stones!
X-ALT-DESC;FMTTYPE=text/html:<p>New England&rsquo\;s own Rolling Stones tribute band\, 19th Nervous Breakdown\, debuts at Jonathan&rsquo\;s on Saturday\, March 8th\, 2025! This tribute band celebrates the music of the greatest\, most influential\, and longest-running rock act of all time! While not necessarily a band\, the act brings you a Mick Jagger looking front man and a sound/stage that resembles the 1978 line-up. Join us for an unforgettable evening featuring the music of the Rolling Stones!</p>\n\n<div>&nbsp\;</div>\n
LOCATION:Jonathan's Ogunquit 92 Bourne Lane Ogunquit\, ME 03907 Upstairs Listening Room
UID:e.3240.4666
SEQUENCE:3
DTSTAMP:20260422T083629Z
URL:https://www.wellschamber.org/events/details/rolling-stones-tribute-with-19th-nervous-breakdown-4666
END:VEVENT

END:VCALENDAR
