BEGIN:VCALENDAR
VERSION:2.0
PRODID:-//ChamberMaster//Event Calendar 2.0//EN
METHOD:PUBLISH
X-PUBLISHED-TTL:P3D
REFRESH-INTERVAL:P3D
CALSCALE:GREGORIAN
BEGIN:VEVENT
DTSTART:20230614T180000Z
DTEND:20230614T200000Z
X-MICROSOFT-CDO-ALLDAYEVENT:FALSE
SUMMARY:Ric Della Bernarda & Claire Bigbee\, Dueling Painters
DESCRIPTION:Join local artists Ric Della Bernarda and Claire Bigbee for a class on how light and atmospheric forces act upon the landscape to create a story\; it's up to the artist to decide how to tell it. These two artists present and demonstrate their unique approaches of landscape and seascape painting. Both are best known for the light in their paintings coupled with strong composition. Learn how they see subtle color and value shifts that give their paintings depth.\n\nRegister here
X-ALT-DESC;FMTTYPE=text/html:<div>Join local artists Ric Della Bernarda and Claire Bigbee for a class on how light and atmospheric forces act upon the landscape to create a story\; it&rsquo\;s up to the artist to decide how to tell it. These two artists present and demonstrate their unique approaches of landscape and seascape painting. Both are best known for the light in their paintings coupled with strong composition. Learn how they see subtle color and value shifts that give their paintings depth.<br />\n<a href="https://ogunquitmuseumofamericanart.ticketing.veevartapp.com/tickets/view/list/class-dueling-painters" rel="noopener" target="_blank">Register here</a></div>\n
LOCATION:Ogunquit Museum of American Art 543 Shore Road Ogunquit\, ME 03907
UID:e.3240.3720
SEQUENCE:3
DTSTAMP:20260423T193825Z
URL:https://www.wellschamber.org/events/details/ric-della-bernarda-claire-bigbee-dueling-painters-3720
END:VEVENT

END:VCALENDAR
