BEGIN:VCALENDAR
VERSION:2.0
PRODID:-//ChamberMaster//Event Calendar 2.0//EN
METHOD:PUBLISH
X-PUBLISHED-TTL:P3D
REFRESH-INTERVAL:P3D
CALSCALE:GREGORIAN
BEGIN:VEVENT
DTSTART:20230718T180000Z
DTEND:20230718T193000Z
X-MICROSOFT-CDO-ALLDAYEVENT:FALSE
SUMMARY:Resume Refresher with York Co. Career Center
DESCRIPTION:Is it time for you to create a new resume and you're not sure on how to get started? Join us for an in-person session to discuss how to create a winning resume. Following the workshop you'll also learn how you can schedule a virtual meeting with a CareerCenter consultant who can review your new resume and provide additional support.\n\n\n\nDuring the workshop you will learn how to write a dynamic winning resume and find the tools you need to promote and target your qualifications to directly match the employer's needs. You will also learn how to ensure that your resume and cover letter make the best first impression to employers.\n\nFor more information\, please contact Stefanie Claydon at sclaydon@wellstown.org or call the library at 207-646-8181.
X-ALT-DESC;FMTTYPE=text/html:<span style="color:black">Is it time for you to create a new resume and you&#39\;re not sure on how to get started? Join us for an in-person session to discuss how to create a winning resume. Following the workshop you&#39\;ll also learn how you can schedule a virtual meeting with a CareerCenter consultant who can review your new resume and provide additional support.</span><br />\n<br />\n<span style="color:black">During the workshop you will learn how to write a dynamic winning resume and find the tools you need to promote and target your qualifications to directly match the employer&#39\;s needs. You will also learn how to ensure that your resume and cover letter make the best first impression to employers.</span><br />\n<span style="color:black">For more information\, please contact Stefanie Claydon at sclaydon@wellstown.org or call the library at 207-646-8181.&nbsp\;</span>
LOCATION:Wells Public Library 1434 Post Road Wells\, ME 04090
UID:e.3240.3799
SEQUENCE:3
DTSTAMP:20260423T194212Z
URL:https://www.wellschamber.org/events/details/resume-refresher-with-york-co-career-center-3799
END:VEVENT

END:VCALENDAR
