BEGIN:VCALENDAR
VERSION:2.0
PRODID:-//ChamberMaster//Event Calendar 2.0//EN
METHOD:PUBLISH
X-PUBLISHED-TTL:P3D
REFRESH-INTERVAL:P3D
CALSCALE:GREGORIAN
BEGIN:VEVENT
DTSTART:20230916T210000Z
DTEND:20230916T230000Z
X-MICROSOFT-CDO-ALLDAYEVENT:FALSE
SUMMARY:Pasta and Meatball Dinner
DESCRIPTION:Pasta and Meatball Dinner hosted by the Knights of Columbus\, William J. Kelly Council 9782.
X-ALT-DESC;FMTTYPE=text/html:Pasta and Meatball Dinner hosted by the Knights of Columbus\, William J. Kelly Council 9782.
LOCATION:St. Mary's Church Hall\, 236 Eldridge Road\, Wells
UID:e.3240.3841
SEQUENCE:3
DTSTAMP:20260422T101024Z
URL:https://www.wellschamber.org/events/details/pasta-and-meatball-dinner-3841
END:VEVENT

END:VCALENDAR
