BEGIN:VCALENDAR
VERSION:2.0
PRODID:-//ChamberMaster//Event Calendar 2.0//EN
METHOD:PUBLISH
X-PUBLISHED-TTL:P3D
REFRESH-INTERVAL:P3D
CALSCALE:GREGORIAN
BEGIN:VEVENT
DTSTART:20230725T120000Z
DTEND:20230807T000000Z
X-MICROSOFT-CDO-ALLDAYEVENT:FALSE
SUMMARY:ONLINE SCHOLARSHIP AUCTION
DESCRIPTION:The Wells Chamber of Commerce is presenting their Annual ONLINE SCHOLARSHIP AUCTION with the proceeds used to finance the Wells High School Scholarship Fund.  This is an online event - https://event.auctria.com/8a9fd68a-6208-40e7-971d-76a1da4adb84/
X-ALT-DESC;FMTTYPE=text/html:The Wells Chamber of Commerce is presenting their Annual ONLINE SCHOLARSHIP AUCTION with the proceeds used to finance the Wells High School Scholarship Fund.&nbsp\; This is an online event - https://event.auctria.com/8a9fd68a-6208-40e7-971d-76a1da4adb84/
LOCATION:
UID:e.3240.3835
SEQUENCE:3
DTSTAMP:20260423T154856Z
URL:https://www.wellschamber.org/events/details/online-scholarship-auction-3835
END:VEVENT

END:VCALENDAR
