BEGIN:VCALENDAR
VERSION:2.0
PRODID:-//ChamberMaster//Event Calendar 2.0//EN
METHOD:PUBLISH
X-PUBLISHED-TTL:P3D
REFRESH-INTERVAL:P3D
CALSCALE:GREGORIAN
BEGIN:VEVENT
DTSTART:20230720T160000Z
DTEND:20230819T160000Z
X-MICROSOFT-CDO-ALLDAYEVENT:FALSE
SUMMARY:On Your Feet! The Story of Emilio & Gloria Estefan
DESCRIPTION:The powerful true story of love\, heritage\, and the inspiring music of a family whose humble beginnings traversed impossible boundaries to claim global superstardom. Experience the extraordinary lives of Emilio and Gloria Estefan in this all-new international production. Tickets on sale March 28\, 2023!
X-ALT-DESC;FMTTYPE=text/html:The powerful true story of love\, heritage\, and the inspiring music of a family whose humble beginnings traversed impossible boundaries to claim global superstardom. Experience the extraordinary lives of Emilio and Gloria Estefan in this all-new international production. Tickets on sale March 28\, 2023!
LOCATION:Ogunquit Playhouse 10 Main Street Ogunquit\, ME 03907
UID:e.3240.3368
SEQUENCE:3
DTSTAMP:20260423T155932Z
URL:https://www.wellschamber.org/events/details/on-your-feet-the-story-of-emilio-gloria-estefan-3368
END:VEVENT

END:VCALENDAR
