BEGIN:VCALENDAR
VERSION:2.0
PRODID:-//ChamberMaster//Event Calendar 2.0//EN
METHOD:PUBLISH
X-PUBLISHED-TTL:P3D
REFRESH-INTERVAL:P3D
CALSCALE:GREGORIAN
BEGIN:VEVENT
DTSTART:20230725T210000Z
DTEND:20230725T230000Z
X-MICROSOFT-CDO-ALLDAYEVENT:FALSE
SUMMARY:OMAA Tuesday Talk with Meg Webster
DESCRIPTION:Artist talk with Meg Webster\, in conjunction with the exhibition\, Site-Specific Work.\nTuesday Talks are free with admission\, and always free for members. Click here to join as a member.
X-ALT-DESC;FMTTYPE=text/html:<div>\n<div>\n<p>Artist talk with Meg Webster\, in conjunction with the exhibition\,&nbsp\;<a href="https://ogunquitmuseum.org/exhibition/meg-webster-new-work/">Site-Specific Work</a>.</p>\nTuesday Talks&nbsp\;are free with admission\, and always free for members.&nbsp\;<a href="https://ogunquitmuseum.org/support/become-a-member/">Click here to join as a member.</a></div>\n</div>\n
LOCATION:Ogunquit Museum of American Art 543 Shore Road Ogunquit\, ME 03907
UID:e.3240.3734
SEQUENCE:3
DTSTAMP:20260423T173534Z
URL:https://www.wellschamber.org/events/details/omaa-tuesday-talk-with-meg-webster-3734
END:VEVENT

END:VCALENDAR
