BEGIN:VCALENDAR
VERSION:2.0
PRODID:-//ChamberMaster//Event Calendar 2.0//EN
METHOD:PUBLISH
X-PUBLISHED-TTL:P3D
REFRESH-INTERVAL:P3D
CALSCALE:GREGORIAN
BEGIN:VEVENT
DTSTART:20230801T210000Z
DTEND:20230801T220000Z
X-MICROSOFT-CDO-ALLDAYEVENT:FALSE
SUMMARY:OMAA Tuesday Talk with Liam Lee and Christina De Léon
DESCRIPTION:A conversation between Christina de Leon\, Associate Curator of Latino Design\, at Cooper Hewitt\, Smithsonian Design Museum\, and artist Liam Lee about the exhibition Spontaneous Generation. Moderated by Devon Zimmerman.\n\nTuesday Talks are free with admission\, and always free for members. Click here to join as a member.
X-ALT-DESC;FMTTYPE=text/html:<p>A conversation between Christina de Leon\, Associate Curator of Latino Design\, at Cooper Hewitt\, Smithsonian Design Museum\, and artist Liam Lee about the exhibition&nbsp\;<a href="https://ogunquitmuseum.org/exhibition/spontaneous-generation-the-work-of-liam-lee/">Spontaneous Generation</a>. Moderated by Devon Zimmerman.</p>\n\n<p>Tuesday Talks&nbsp\;are free with admission\, and always free for members.&nbsp\;<a href="https://ogunquitmuseum.org/support/become-a-member/">Click here to join as a member.</a></p>\n\n<h3>&nbsp\;</h3>\n
LOCATION:Ogunquit Museum of American Art 543 Shore Road Ogunquit\, ME 03907
UID:e.3240.3738
SEQUENCE:3
DTSTAMP:20260423T155524Z
URL:https://www.wellschamber.org/events/details/omaa-tuesday-talk-with-liam-lee-and-christina-de-l&#233;on-08-01-2023-3738
END:VEVENT

END:VCALENDAR
