BEGIN:VCALENDAR
VERSION:2.0
PRODID:-//ChamberMaster//Event Calendar 2.0//EN
METHOD:PUBLISH
X-PUBLISHED-TTL:P3D
REFRESH-INTERVAL:P3D
CALSCALE:GREGORIAN
BEGIN:VEVENT
DTSTART:20230919T210000Z
DTEND:20230919T230000Z
X-MICROSOFT-CDO-ALLDAYEVENT:FALSE
SUMMARY:OMAA Tuesday Talk with Joe Wardwell
DESCRIPTION:Artist talk with Joe Wardwell and poet Marjorie Agosi n\, in conjunction with the artist's mural commission.\n\nTuesday Talks are free with admission\, and always free for members. Click here to join as a member.
X-ALT-DESC;FMTTYPE=text/html:<div>\n<p>Artist talk with Joe Wardwell and poet Marjorie Agosi&acute\;n\, in conjunction with the&nbsp\;<a href="https://ogunquitmuseum.org/exhibition/joe-wardwell-mural-commission/">artist&rsquo\;s mural commission</a>.</p>\n\n<p>Tuesday Talks&nbsp\;are free with admission\, and always free for members.&nbsp\;<a href="https://ogunquitmuseum.org/support/become-a-member/">Click here to join as a member.</a></p>\n</div>\n
LOCATION:Ogunquit Museum of American Art 543 Shore Road Ogunquit\, ME 03907
UID:e.3240.3743
SEQUENCE:3
DTSTAMP:20260422T100610Z
URL:https://www.wellschamber.org/events/details/omaa-tuesday-talk-with-joe-wardwell-3743
END:VEVENT

END:VCALENDAR
