BEGIN:VCALENDAR
VERSION:2.0
PRODID:-//ChamberMaster//Event Calendar 2.0//EN
METHOD:PUBLISH
X-PUBLISHED-TTL:P3D
REFRESH-INTERVAL:P3D
CALSCALE:GREGORIAN
BEGIN:VEVENT
DTSTART:20230928T160000Z
DTEND:20231029T160000Z
X-MICROSOFT-CDO-ALLDAYEVENT:FALSE
SUMMARY:Ogunquit Playhouse Tootise
DESCRIPTION:Some call it "musical comedy heaven" (Rolling Stone). Others call it "the most uproarious new musical in years" (Hollywood Reporter). Tootsie is a Tony Award-winning laugh-out-loud love letter to musical theatre. Director Sydney Pollack's celebrated 1982 film is adapted for the stage by taking struggling actor Michael Dorsey out of the world of daytime television and into the realm of Broadway with even more poignant and hilarious results. Tickets on sale March 28th\, 2023!
X-ALT-DESC;FMTTYPE=text/html:Some call it &ldquo\;musical comedy heaven&rdquo\; (Rolling Stone). Others call it &ldquo\;the most uproarious new musical in years&rdquo\; (Hollywood Reporter). Tootsie is a Tony Award-winning laugh-out-loud love letter to musical theatre. Director Sydney Pollack&rsquo\;s celebrated 1982 film is adapted for the stage by taking struggling actor Michael Dorsey out of the world of daytime television and into the realm of Broadway with even more poignant and hilarious results. Tickets on sale March 28th\, 2023!
LOCATION:Ogunquit Playhouse 10 Main Street Ogunquit\, Maine 03907
UID:e.3240.3371
SEQUENCE:3
DTSTAMP:20260422T101148Z
URL:https://www.wellschamber.org/events/details/ogunquit-playhouse-tootise-3371
END:VEVENT

END:VCALENDAR
