BEGIN:VCALENDAR
VERSION:2.0
PRODID:-//ChamberMaster//Event Calendar 2.0//EN
METHOD:PUBLISH
X-PUBLISHED-TTL:P3D
REFRESH-INTERVAL:P3D
CALSCALE:GREGORIAN
BEGIN:VEVENT
DTSTART;VALUE=DATE:20230824
DTEND;VALUE=DATE:20230924
TRANSP:TRANSPARENT
X-MICROSOFT-CDO-ALLDAYEVENT:TRUE
SUMMARY:Ogunquit Playhouse The Da Vinci Code
DESCRIPTION:Based on Dan Brown's worldwide bestselling novel\, with over 100 million copies sold\, unlock the secrets of The Da Vinci Code in the American theatrical premiere of this international phenomenon and uncover the truth behind the greatest mystery of the last 2000 years.
X-ALT-DESC;FMTTYPE=text/html:Based on Dan Brown&rsquo\;s worldwide bestselling novel\, with over 100 million copies sold\, unlock the secrets of The Da Vinci Code in the American theatrical premiere of this international phenomenon and uncover the truth behind the greatest mystery of the last 2000 years.
LOCATION:Ogunquit Playhouse 10 Main Street Ogunquit\, ME 03907
UID:e.3240.3370
SEQUENCE:3
DTSTAMP:20260423T154658Z
URL:https://www.wellschamber.org/events/details/ogunquit-playhouse-the-da-vinci-code-3370
END:VEVENT

END:VCALENDAR
