BEGIN:VCALENDAR
VERSION:2.0
PRODID:-//ChamberMaster//Event Calendar 2.0//EN
METHOD:PUBLISH
X-PUBLISHED-TTL:P3D
REFRESH-INTERVAL:P3D
CALSCALE:GREGORIAN
BEGIN:VEVENT
DTSTART;VALUE=DATE:20230615
DTEND;VALUE=DATE:20230716
TRANSP:TRANSPARENT
X-MICROSOFT-CDO-ALLDAYEVENT:TRUE
SUMMARY:Ogunquit Playhouse Singin' in the Rain
DESCRIPTION:Relive every memorable moment from the legendary Gene Kelly film with a downpour of unforgettable songs and glorious dancing. Experience Singin' in the Rain live and in person as we make it rain with this joyous and spectacular romantic musical comedy.
X-ALT-DESC;FMTTYPE=text/html:Relive every memorable moment from the legendary Gene Kelly film with a downpour of unforgettable songs and glorious dancing. Experience Singin&rsquo\; in the Rain live and in person as we make it rain with this joyous and spectacular romantic musical comedy.
LOCATION:10 Main St\, Ogunquit\, ME 03907
UID:e.3240.3367
SEQUENCE:3
DTSTAMP:20260423T174007Z
URL:https://www.wellschamber.org/events/details/ogunquit-playhouse-singin-in-the-rain-3367
END:VEVENT

END:VCALENDAR
