BEGIN:VCALENDAR
VERSION:2.0
PRODID:-//ChamberMaster//Event Calendar 2.0//EN
METHOD:PUBLISH
X-PUBLISHED-TTL:P3D
REFRESH-INTERVAL:P3D
CALSCALE:GREGORIAN
BEGIN:VEVENT
DTSTART;VALUE=DATE:20230328
DTEND;VALUE=DATE:20230329
TRANSP:TRANSPARENT
X-MICROSOFT-CDO-ALLDAYEVENT:TRUE
SUMMARY:Ogunquit Playhouse 2023 Tickets On Sale
DESCRIPTION:Purchase your tickets to Ogunquit Playhouse's 2023 Season including: Singin' in the Rain\, On Your Feet! The Story of Emilio & Gloria Estefan\, The American Premiere of Dan Brown's The DaVinci Code\, and the Regional Premiere of Tootsie!
X-ALT-DESC;FMTTYPE=text/html:Purchase your tickets to Ogunquit Playhouse&#39\;s 2023 Season including: Singin&#39\; in the Rain\, On Your Feet! The Story of Emilio &amp\; Gloria Estefan\, The American Premiere of Dan Brown&#39\;s The DaVinci Code\, and the Regional Premiere of Tootsie!
LOCATION:
UID:e.3240.3366
SEQUENCE:3
DTSTAMP:20260424T012157Z
URL:https://www.wellschamber.org/events/details/ogunquit-playhouse-2023-tickets-on-sale-3366
END:VEVENT

END:VCALENDAR
